Workbook

Sheet Budżet
C1: Wpływy budżetowe | D1: Granty Wyszehradzkie (Visegrad Grants - siedem tradycyjnych celów) | E1: Granty Strategiczne (Strategic Grants - roczne cele strategiczne) | F1: Granty Visegrad+ (Bałkany Zachodnie i Partnerstwo Wschodnie) | G1: Stypendia (Mobility) | H1: Wspólny program badawczy (Joint Research Program)
B2: Budżet bazowy | C2: 100 | D2: 20 | E2: 20 | F2: 20 | G2: 20 | H2: 20 | I2: Zasada zbilansowania
A3: W tym wierszu wpisuje się kwoty wynegocjowanego budżetu IVF -> | B3: Budżet wynegocjowany | C3: 0 | D3: 0 | E3: 0 | F3: 0 | G3: 0 | H3: 0 | I3: =IF(SUM(D3:H3)=C3,"OK","NIE OK") -> OK

Sheet Punkty
A1: Punkty | G1: SUMA
A2: Polska | B2: =IF(Budżet!D3<=Budżet!D2,0,IF(Budżet!D3>Budżet!D2,0,0)) -> 0 | C2: =IF(Budżet!E3>Budżet!E2,1,0) -> 0 | D2: =IF(Budżet!F3>Budżet!F2,1,0) -> 0 | E2: =IF(Budżet!G3<Budżet!G2,1,0) -> 1 | F2: =IF(Budżet!H3>Budżet!H2,1,0) -> 0 | G2: =SUM(B2:F2) -> 1
A3: Węgry | B3: =IF(Budżet!D3>Budżet!D2,1,0) -> 0 | C3: =IF(Budżet!E3>=Budżet!E2,0,IF(Budżet!E3<Budżet!E2,0,0)) -> 0 | D3: =IF(Budżet!F3>Budżet!F2,1,0) -> 0 | E3: =IF(Budżet!G3>Budżet!G2,1,0) -> 0 | F3: =IF(Budżet!H3>Budżet!H2,1,0) -> 0 | G3: =SUM(B3:F3) -> 0
A4: Słowacja | B4: =IF(Budżet!D3>Budżet!D2,1,0) -> 0 | C4: =IF(Budżet!E3<Budżet!E2,1,0) -> 1 | D4: =IF(Budżet!F3>Budżet!F2,1,0) -> 0 | E4: =IF(Budżet!G3>Budżet!G2,1,0) -> 0 | F4: =IF(Budżet!H3<Budżet!H2,1,0) -> 1 | G4: =SUM(B4:F4) -> 2
A5: Czechy | B5: =IF(Budżet!D3<Budżet!D2,1,0) -> 1 | C5: =IF(Budżet!E3<Budżet!E2,1,0) -> 1 | D5: =IF(Budżet!F3>Budżet!F2,1,0) -> 0 | E5: =IF(Budżet!G3>Budżet!G2,1,0) -> 0 | F5: =IF(Budżet!H3>Budżet!H2,1,0) -> 0 | G5: =SUM(B5:F5) -> 2
